BEGIN:VCALENDAR
VERSION:2.0
PRODID:-//YSPC Scholarship Foundation - ECPv4.8.1//NONSGML v1.0//EN
CALSCALE:GREGORIAN
METHOD:PUBLISH
X-WR-CALNAME:YSPC Scholarship Foundation
X-ORIGINAL-URL:https://www.yspcscholarship.org/en
X-WR-CALDESC:Events for YSPC Scholarship Foundation
BEGIN:VEVENT
DTSTART;TZID=UTC+0:20180501T080000
DTEND;TZID=UTC+0:20180615T170000
DTSTAMP:20260424T140720
CREATED:20141104T152229Z
LAST-MODIFIED:20180407T020403Z
UID:383-1525161600-1529082000@www.yspcscholarship.org
SUMMARY:Scholarship Application Acceptance Dates
DESCRIPTION:Scholarship Application Acceptance Dates \n(May 1st to June 15th) \n
URL:https://www.yspcscholarship.org/en/event/event-2/
LOCATION:YSPC SCHOLARSHIP\, 706 Witmer Rd\, Horsham\, PA\, 19044\, United States
CATEGORIES:Advertisement
ATTACH;FMTTYPE=image/png:https://www.yspcscholarship.org/wp-content/uploads/2018/04/Homepage-Logo-2a-1024x297.png
ORGANIZER;CN="Organizer":MAILTO:info@velikorodnov.com
END:VEVENT
END:VCALENDAR