BEGIN:VCALENDAR
VERSION:2.0
PRODID:-//YSPC Scholarship Foundation - ECPv4.8.1//NONSGML v1.0//EN
CALSCALE:GREGORIAN
METHOD:PUBLISH
X-WR-CALNAME:YSPC Scholarship Foundation
X-ORIGINAL-URL:https://www.yspcscholarship.org/ko
X-WR-CALDESC:Events for YSPC Scholarship Foundation
BEGIN:VEVENT
DTSTART;TZID=America/New_York:20180908T180000
DTEND;TZID=America/New_York:20180908T200000
DTSTAMP:20260424T141501
CREATED:20180827T005105Z
LAST-MODIFIED:20180827T005105Z
UID:2278-1536429600-1536436800@www.yspcscholarship.org
SUMMARY:골프대회저녁식사-가야(골프대회출전자)
DESCRIPTION:주 관\n– 영생장학회 \n●장 소\n– Lederach Golf Course\n900 Clubhouse Dr.\nHarleysville\, PA 19438 \n●행사시간\n– September 8\, 2018(Sat.)\n1:00 PM Golf Shotgun Start\n11:45 AM – 12:45 PM Registration (Box Lunch Provided) \n●상금 및 경품 – Top Three Golfers ($500/$300/$100)\n– $10\,000 Hole in One\n– Closest to the Pin\n– Longest Drive\n* Raffle Ticket Prizes \n●등록비용-$100 per player early registration fee ($110 day of)\n– Dinner at Gaya Restaurant to Follow (1002 W Skippack Pike\, Blue Bell\, PA) \n●등록문의:\n– Alex Cho 267-258-4374 machodds@yahoo.com \n
URL:https://www.yspcscholarship.org/ko/event/%ea%b3%a8%ed%94%84%eb%8c%80%ed%9a%8c%ec%a0%80%eb%85%81%ec%8b%9d%ec%82%ac-%ea%b0%80%ec%95%bc%ea%b3%a8%ed%94%84%eb%8c%80%ed%9a%8c%ec%b6%9c%ec%a0%84%ec%9e%90/
LOCATION:Lederach Golf Course\, 900 Clubhouse Drive\, Harleysville\, PA\, 19438
ATTACH;FMTTYPE=image/jpeg:https://www.yspcscholarship.org/wp-content/uploads/2018/08/Gaya.jpg
END:VEVENT
END:VCALENDAR