BEGIN:VCALENDAR
VERSION:2.0
PRODID:-//YSPC Scholarship Foundation - ECPv4.8.1//NONSGML v1.0//EN
CALSCALE:GREGORIAN
METHOD:PUBLISH
X-WR-CALNAME:YSPC Scholarship Foundation
X-ORIGINAL-URL:https://www.yspcscholarship.org/ko
X-WR-CALDESC:Events for YSPC Scholarship Foundation
BEGIN:VEVENT
DTSTART;TZID=UTC+0:20180501T080000
DTEND;TZID=UTC+0:20180615T170000
DTSTAMP:20260424T141343
CREATED:20180327T050644Z
LAST-MODIFIED:20180407T020904Z
UID:1787-1525161600-1529082000@www.yspcscholarship.org
SUMMARY:영생장학금 신청일자 안내
DESCRIPTION:2018년도 영생장학금 신청일자 안내 \n05. 01. 2018 ~ 06.15. 2018 \n  \n
URL:https://www.yspcscholarship.org/ko/event/%ec%98%81%ec%83%9d%ec%9e%a5%ed%95%99%ea%b8%88-%ec%8b%a0%ec%b2%ad%ec%9d%bc%ec%9e%90-%ec%95%88%eb%82%b4/
LOCATION:YSPC SCHOLARSHIP\, 706 Witmer Rd\, Horsham\, PA\, 19044\, United States
ATTACH;FMTTYPE=image/png:https://www.yspcscholarship.org/wp-content/uploads/2018/04/Homepage-Logo-2a-1024x297.png
ORGANIZER;CN="Organizer":MAILTO:info@velikorodnov.com
END:VEVENT
END:VCALENDAR