BEGIN:VCALENDAR
VERSION:2.0
PRODID:-//YSPC Scholarship Foundation - ECPv4.8.1//NONSGML v1.0//EN
CALSCALE:GREGORIAN
METHOD:PUBLISH
X-WR-CALNAME:YSPC Scholarship Foundation
X-ORIGINAL-URL:https://www.yspcscholarship.org/ko
X-WR-CALDESC:Events for YSPC Scholarship Foundation
BEGIN:VEVENT
DTSTART;TZID=America/New_York:20180908T114500
DTEND;TZID=America/New_York:20180908T124500
DTSTAMP:20260424T141613
CREATED:20180827T003431Z
LAST-MODIFIED:20180827T003431Z
UID:2274-1536407100-1536410700@www.yspcscholarship.org
SUMMARY:2018" 영생장학회 장학기금마련 골프대회 (등록)
DESCRIPTION:영생장학회에서는 오는 2018 년 9 월 8 일 12 시에 Lederach 골프장에서 장학기금마련을 위한 제 1 회 골프대회를 개최합니다. 영생장학회에서는 이 골프대회를 통하여 미국에서 대학에 재학중이거나 진학예정인 기독학생중에서 하나님께 헌신한 재능있고 가능성 있는 훌륭한 학생들을 위한 장학기금을 마련하고자 합니다.\n영생장학회는 올 해 처음으로 장학기금 마련을 위한 골프대회를 개최하면서 아래와 같이 대회 참여자와 후원자를 모시고자 합니다. 이번 골프대회 참가자는 약 80 명으로 계획하고 있습니다. 대회를 후원해 주시는 분들은 Tee box 에 후원자 이름이 적힌 싸인판이 설치되며 가야에서 진행되는 시상자 수여식 만찬에서 소개됩니다. 그리고 후원해 주시는 후원금 전액은 영생장학회 기금으로 곧바로 적립이 됩니다.\n후원해 주시는 분들은 다음의 네 가지 방법으로 후원해 주실 수 있습니다. 1. Bronze($50) 후원: 홀 하나에 이름이 새겨진 싸인판 설치(싸인판 하나에 네명의 이름이 새겨짐) 2. Silver($100) 후원: 홀 하나에 본인의 이름이 새겨진 싸인판 설치 3. Gold($200) 후원: 하나의 홀에 본인 이름과 회사 이름이 새겨진 싸인판 설치 4. Platinum($500) 후원: 네 개의 홀에 본인 이름과 회사 이름이 새겨진 싸인판 설치 *$10\,000 Hole in One 외에 추첨을 통한 다양한 경품이 준비되어 있습니다.\n후원 혹은 기부를 원하시는 분들은 아래의 내용을 이메일로 조민철 집사님에게 보내 주시기 바랍니다. (machodds@yahoo.com) 귀한 후원의 손길을 통해 비전을 가진 학생들의 삶을 위한 하나님의 목적이 완성될 수 있도록 협조해 주셔서 대단히 감사합니다. \n
URL:https://www.yspcscholarship.org/ko/event/2018-%ec%98%81%ec%83%9d%ec%9e%a5%ed%95%99%ed%9a%8c-%ec%9e%a5%ed%95%99%ea%b8%b0%ea%b8%88%eb%a7%88%eb%a0%a8-%ea%b3%a8%ed%94%84%eb%8c%80%ed%9a%8c-%eb%93%b1%eb%a1%9d/
LOCATION:Lederach Golf Course\, 900 Clubhouse Drive\, Harleysville\, PA\, 19438
ATTACH;FMTTYPE=image/jpeg:https://www.yspcscholarship.org/wp-content/uploads/2018/08/golf-641x382.jpg
END:VEVENT
END:VCALENDAR